BEGIN:VCALENDAR
VERSION:2.0
PRODID:-//PYVOBJECT//NONSGML Version 1//EN
BEGIN:VEVENT
UID:19016:1090
DTSTART:20121122T000000
DTEND:20130116T000000
DESCRIPTION:
DTSTAMP:20260419T084153Z
SUMMARY: Schnäppchen-AKTION! Klimaanlage befüllen\, Refreshen\, Service
END:VEVENT
END:VCALENDAR
